BEGIN:VCALENDAR
PRODID;X-RICAL-TZSOURCE=TZINFO:-&#47;&#47;com.denhaven2&#47;NONSGML ri_cal gem&#47;&#47;EN
CALSCALE:GREGORIAN
VERSION:2.0
BEGIN:VEVENT
DTEND;VALUE=DATE:20090901
DTSTART;VALUE=DATE:20090901
DESCRIPTION:first release is due on 09&#47;01&#47;09 (2 tickets)
SUMMARY:Milestone for sd: first release
LOCATION:https:&#47;&#47;sunnavy.lighthouseapp.com&#47;projects&#47;35918&#47;milestones&#47;4876
 1-first-release
END:VEVENT
END:VCALENDAR
